BEGIN:VCALENDAR
VERSION:2.0
PRODID:-//Lyceum Philharmonic - ECPv6.15.20//NONSGML v1.0//EN
CALSCALE:GREGORIAN
METHOD:PUBLISH
X-WR-CALNAME:Lyceum Philharmonic
X-ORIGINAL-URL:https://lyceumphilharmonic.com
X-WR-CALDESC:Events for Lyceum Philharmonic
REFRESH-INTERVAL;VALUE=DURATION:PT1H
X-Robots-Tag:noindex
X-PUBLISHED-TTL:PT1H
BEGIN:VTIMEZONE
TZID:America/Boise
BEGIN:DAYLIGHT
TZOFFSETFROM:-0700
TZOFFSETTO:-0600
TZNAME:MDT
DTSTART:20250309T090000
END:DAYLIGHT
BEGIN:STANDARD
TZOFFSETFROM:-0600
TZOFFSETTO:-0700
TZNAME:MST
DTSTART:20251102T080000
END:STANDARD
BEGIN:DAYLIGHT
TZOFFSETFROM:-0700
TZOFFSETTO:-0600
TZNAME:MDT
DTSTART:20260308T090000
END:DAYLIGHT
BEGIN:STANDARD
TZOFFSETFROM:-0600
TZOFFSETTO:-0700
TZNAME:MST
DTSTART:20261101T080000
END:STANDARD
BEGIN:DAYLIGHT
TZOFFSETFROM:-0700
TZOFFSETTO:-0600
TZNAME:MDT
DTSTART:20270314T090000
END:DAYLIGHT
BEGIN:STANDARD
TZOFFSETFROM:-0600
TZOFFSETTO:-0700
TZNAME:MST
DTSTART:20271107T080000
END:STANDARD
END:VTIMEZONE
BEGIN:VEVENT
DTSTART;TZID=America/Boise:20260323T183000
DTEND;TZID=America/Boise:20260323T193000
DTSTAMP:20260422T223745
CREATED:20250821T180604Z
LAST-MODIFIED:20260126T161657Z
UID:14351-1774290600-1774294200@lyceumphilharmonic.com
SUMMARY:Utah Philharmonia & Lyceum Symphony Masterworks - 6:30 PM
DESCRIPTION:Experience the triumph of Liszt’s epic tone poem Les Préludes\, performed by the combined forces of the Lyceum Symphony and University of Utah Philharmonia. This thrilling side-by-side concert also showcases the virtuosity of our Concerto Competition winners alongside works by Beethoven and more—all in the world-class setting of Abravanel Hall. \n📍 Abravanel Hall\, 123 W S Temple St\, Salt Lake City🗓 Monday\, March 23\, 2026⏰ 6:30 PM🎟 General Admission – No ticket required
URL:https://lyceumphilharmonic.com/event/philharmonic-symphony-masterworks/
LOCATION:Abravanel Hall\, 123 W South Temple\, Salt Lake City\, UT\, 84101\, United States
CATEGORIES:Masterworks,Concerto Concert,Lyceum Concerts
ATTACH;FMTTYPE=image/jpeg:https://lyceumphilharmonic.com/wp-content/uploads/2025/08/Side-by-side-Masterworks-Concert-630.jpg
END:VEVENT
BEGIN:VEVENT
DTSTART;TZID=America/Boise:20260323T200000
DTEND;TZID=America/Boise:20260323T200000
DTSTAMP:20260422T223745
CREATED:20250820T150257Z
LAST-MODIFIED:20250820T161141Z
UID:14323-1774296000-1774296000@lyceumphilharmonic.com
SUMMARY:American Masterworks & Concertos ~ Lyceum Philharmonic\, 8 PM
DESCRIPTION:Experience the jaw-dropping musical landscapes of Grofé’s Grand Canyon Suite\, the sparkling wit of Bernstein’s Candide Overture\, and the brilliant artistry of our Concerto Competition winners. This tribute to America’s greatest masterworks conjures an unforgettable evening of color\, imagery\, and virtuosity — brought to life in the elevated acoustic of Abravanel Hall. \n📍 Abravanel Hall\, Salt Lake City🗓 Monday\, March 23\, 2026⏰ 8:00 PM🎟 General Admission – No ticket required
URL:https://lyceumphilharmonic.com/event/american-masterworks/
LOCATION:Abravanel Hall\, 123 W South Temple\, Salt Lake City\, UT\, 84101\, United States
CATEGORIES:Masterworks,Concerto Concert,Lyceum Concerts
ATTACH;FMTTYPE=image/jpeg:https://lyceumphilharmonic.com/wp-content/uploads/2025/08/Masterworks-Concert.jpg
END:VEVENT
BEGIN:VEVENT
DTSTART;TZID=America/Boise:20260509T160000
DTEND;TZID=America/Boise:20260509T160000
DTSTAMP:20260422T223745
CREATED:20250820T155244Z
LAST-MODIFIED:20250820T160650Z
UID:14326-1778342400-1778342400@lyceumphilharmonic.com
SUMMARY:LOVE music MORE Super Concert\, 4 pm
DESCRIPTION:For the first time ever\, all ten Lyceum ensembles come together to bring our season to a climactic close with the LOVE music MORE Super Concert! From our youngest learners to our graduating seniors\, experience the energy and joy of nearly 500 musicians sharing the stage in an unforgettable afternoon of music for the whole family. Featuring works by Stravinsky\, Sibelius\, and more\, this spectacular event celebrates our progress and purpose at the end of a life-changing season for our youth! \n📍 Tabernacle on Temple Square🗓 Saturday\, May 9\, 2026⏰ 4:00 PM🎟 Free Concert – General Admission
URL:https://lyceumphilharmonic.com/event/love-music-more-super-concert/
LOCATION:Tabernacle on Temple Square\, 50 N. West Temple\, Salt Lake City\, UT\, 84150\, United States
CATEGORIES:Masterworks
ATTACH;FMTTYPE=image/jpeg:https://lyceumphilharmonic.com/wp-content/uploads/2025/08/Super-Concert-2025-love-music-more-1.jpg
END:VEVENT
END:VCALENDAR