BEGIN:VCALENDAR
VERSION:2.0
PRODID:-//Lyceum Philharmonic - ECPv6.15.20//NONSGML v1.0//EN
CALSCALE:GREGORIAN
METHOD:PUBLISH
X-ORIGINAL-URL:https://lyceumphilharmonic.com
X-WR-CALDESC:Events for Lyceum Philharmonic
REFRESH-INTERVAL;VALUE=DURATION:PT1H
X-Robots-Tag:noindex
X-PUBLISHED-TTL:PT1H
BEGIN:VTIMEZONE
TZID:America/Boise
BEGIN:DAYLIGHT
TZOFFSETFROM:-0700
TZOFFSETTO:-0600
TZNAME:MDT
DTSTART:20120311T090000
END:DAYLIGHT
BEGIN:STANDARD
TZOFFSETFROM:-0600
TZOFFSETTO:-0700
TZNAME:MST
DTSTART:20121104T080000
END:STANDARD
BEGIN:DAYLIGHT
TZOFFSETFROM:-0700
TZOFFSETTO:-0600
TZNAME:MDT
DTSTART:20130310T090000
END:DAYLIGHT
BEGIN:STANDARD
TZOFFSETFROM:-0600
TZOFFSETTO:-0700
TZNAME:MST
DTSTART:20131103T080000
END:STANDARD
BEGIN:DAYLIGHT
TZOFFSETFROM:-0700
TZOFFSETTO:-0600
TZNAME:MDT
DTSTART:20140309T090000
END:DAYLIGHT
BEGIN:STANDARD
TZOFFSETFROM:-0600
TZOFFSETTO:-0700
TZNAME:MST
DTSTART:20141102T080000
END:STANDARD
BEGIN:DAYLIGHT
TZOFFSETFROM:-0700
TZOFFSETTO:-0600
TZNAME:MDT
DTSTART:20150308T090000
END:DAYLIGHT
BEGIN:STANDARD
TZOFFSETFROM:-0600
TZOFFSETTO:-0700
TZNAME:MST
DTSTART:20151101T080000
END:STANDARD
BEGIN:DAYLIGHT
TZOFFSETFROM:-0700
TZOFFSETTO:-0600
TZNAME:MDT
DTSTART:20160313T090000
END:DAYLIGHT
BEGIN:STANDARD
TZOFFSETFROM:-0600
TZOFFSETTO:-0700
TZNAME:MST
DTSTART:20161106T080000
END:STANDARD
BEGIN:DAYLIGHT
TZOFFSETFROM:-0700
TZOFFSETTO:-0600
TZNAME:MDT
DTSTART:20170312T090000
END:DAYLIGHT
BEGIN:STANDARD
TZOFFSETFROM:-0600
TZOFFSETTO:-0700
TZNAME:MST
DTSTART:20171105T080000
END:STANDARD
BEGIN:DAYLIGHT
TZOFFSETFROM:-0700
TZOFFSETTO:-0600
TZNAME:MDT
DTSTART:20180311T090000
END:DAYLIGHT
BEGIN:STANDARD
TZOFFSETFROM:-0600
TZOFFSETTO:-0700
TZNAME:MST
DTSTART:20181104T080000
END:STANDARD
BEGIN:DAYLIGHT
TZOFFSETFROM:-0700
TZOFFSETTO:-0600
TZNAME:MDT
DTSTART:20190310T090000
END:DAYLIGHT
BEGIN:STANDARD
TZOFFSETFROM:-0600
TZOFFSETTO:-0700
TZNAME:MST
DTSTART:20191103T080000
END:STANDARD
BEGIN:DAYLIGHT
TZOFFSETFROM:-0700
TZOFFSETTO:-0600
TZNAME:MDT
DTSTART:20200308T090000
END:DAYLIGHT
BEGIN:STANDARD
TZOFFSETFROM:-0600
TZOFFSETTO:-0700
TZNAME:MST
DTSTART:20201101T080000
END:STANDARD
BEGIN:DAYLIGHT
TZOFFSETFROM:-0700
TZOFFSETTO:-0600
TZNAME:MDT
DTSTART:20210314T090000
END:DAYLIGHT
BEGIN:STANDARD
TZOFFSETFROM:-0600
TZOFFSETTO:-0700
TZNAME:MST
DTSTART:20211107T080000
END:STANDARD
BEGIN:DAYLIGHT
TZOFFSETFROM:-0700
TZOFFSETTO:-0600
TZNAME:MDT
DTSTART:20220313T090000
END:DAYLIGHT
BEGIN:STANDARD
TZOFFSETFROM:-0600
TZOFFSETTO:-0700
TZNAME:MST
DTSTART:20221106T080000
END:STANDARD
BEGIN:DAYLIGHT
TZOFFSETFROM:-0700
TZOFFSETTO:-0600
TZNAME:MDT
DTSTART:20230312T090000
END:DAYLIGHT
BEGIN:STANDARD
TZOFFSETFROM:-0600
TZOFFSETTO:-0700
TZNAME:MST
DTSTART:20231105T080000
END:STANDARD
END:VTIMEZONE
BEGIN:VEVENT
DTSTART;TZID=America/Boise:20220521T193000
DTEND;TZID=America/Boise:20220521T193000
DTSTAMP:20260422T221233
CREATED:20200220T185436Z
LAST-MODIFIED:20220505T151043Z
UID:13837-1653161400-1653161400@lyceumphilharmonic.com
SUMMARY:Lyceum Philharmonic at Thanksgiving Point with GENTRI
DESCRIPTION:Join us for an evening under the stars\, surrounded by over a quarter million tulips at the stunning Thanksgiving Point Waterfall Amphitheater. Special guest GENTRI has been astounding audiences since 2014 with multiple albums hitting the top of the Billboard Charts. Music will include selections from West Side Story\, The Greatest Showman\, The Beatles\, and hits from the albums of both GENTRI and Lyceum Philharmonic’s recent albums. \nGENTRI\, which is short for “The Gentlemen Trio” is comprised of three dynamic tenors: Brad Robins\, Casey Elliott and Bradley Quinn Lever. Pioneering a signature sound they call “Cinematic Pop\,” the music of GENTRI is transfused with lush\, epic orchestrations and rich\, dynamic three-part harmonies all composed by the group’s producer Stephen Nelson. They are the perfect compliment to the award-winning Lyceum Philharmonic at American Heritage School. \nTickets: https://thanksgivingpoint.org/calendar/lyceum-philharmonic-concert/
URL:https://lyceumphilharmonic.com/event/tulip-festival-at-thanksgiving-point-with-gentri/
LOCATION:Thanksgiving Point Waterfall Amphitheater\, 3900 N. Garden Drive\, Lehi\, UT\, 84043\, United States
CATEGORIES:Thanksgiving Point
ATTACH;FMTTYPE=image/jpeg:https://lyceumphilharmonic.com/wp-content/uploads/2016/04/LP-PK_Lyceum-Philharmonic-Thanksgiving-Point.jpg
END:VEVENT
BEGIN:VEVENT
DTSTART;TZID=America/Boise:20200829T190000
DTEND;TZID=America/Boise:20200829T190000
DTSTAMP:20260422T221233
CREATED:20200807T152232Z
LAST-MODIFIED:20200818T191120Z
UID:13857-1598727600-1598727600@lyceumphilharmonic.com
SUMMARY:
DESCRIPTION:Concert admission is included with entry fee to Thanksgiving Point Ashton Gardens. The event is included with Thanksgiving Point membership. Thanksgiving Point requires patrons wear face coverings when entering the venue but allows for them to removed if socially distant when in the outdoor gardens. Bring a blanket or low-back chair. Outside food is allowed. The concert is 7 to 8 pm in the Waterfall Amphitheater. For tickets see: https://www.thanksgivingpoint.org/events/lyceum-philharmonic/ \nThe Lyceum Philharmonic has hit the top of the Billboard Charts\, been featured on PBS with The Piano Guys\, recorded for SONY Masterworks\, and has millions of streams and YouTube views. This group of talented youth come from schools across the state to participate in the world-class Lyceum Youth Orchestras Program at American Heritage School in nearby American Fork. These youth diligently rehearsed for three months to prepare Sibelius Symphony No. 2 for a series of concerts that were abruptly cancelled hours prior to the performance. The Second Symphony of Jean Sibelius\, perhaps more than any other work\, fits our current state. The first movement comforts and lulls the listener with gentle sways like waves of the ocean. The second movement introduces a desperate struggle against dark oppression. The third movement is an overactive burst of energy and drive that after great effort\, overcomes adversity and breaks into one of the most triumphant\, conquering anthems of all time! It is one of the great examples in music of delayed gratification made all the more poignant by the lengths these youth have gone to in order to present this work for the public even months after originally intended. \nTo see a video of these youth performing the finale from Sibelius Symphony No. 2 see: https://youtu.be/khk2K74E8nk
URL:https://lyceumphilharmonic.com/event/13857/
LOCATION:Thanksgiving Point Waterfall Amphitheater\, 3900 N. Garden Drive\, Lehi\, UT\, 84043\, United States
CATEGORIES:Thanksgiving Point
ATTACH;FMTTYPE=image/jpeg:https://lyceumphilharmonic.com/wp-content/uploads/2016/04/LP-PK_Lyceum-Philharmonic-Thanksgiving-Point.jpg
END:VEVENT
BEGIN:VEVENT
DTSTART;TZID=America/Boise:20190504T193000
DTEND;TZID=America/Boise:20190504T193000
DTSTAMP:20260422T221233
CREATED:20190211T201755Z
LAST-MODIFIED:20190211T203402Z
UID:13716-1556998200-1556998200@lyceumphilharmonic.com
SUMMARY:Caroline Campbell and Lyceum Philharmonic at Thanksgiving Point Tulip Festival - May 4
DESCRIPTION:Virtuoso violinist Caroline Campbell and the Lyceum Philharmonic come together on the final day of the Tulip Festival at Thanksgiving Point for a magical evening of music and ambiance at the Waterfall Amphitheater. Enjoy the gardens in full bloom with more than 280\,000 tulips across more than 50 acres of manicured gardens. Music will include Pines of Rome\, Gabriel’s Oboe\, Amazing Grace\, music from West Side Story and a sneak-peek into the Philharmonic’s 2019 album release\, Turning Hearts. Admission to the concert is included with a garden pass on May 4th and is FREE for Thanksgiving Point members. \n 
URL:https://lyceumphilharmonic.com/event/caroline-campbell-lyceum-philharmonic-tulip-festival/
LOCATION:Thanksgiving Point Waterfall Amphitheater\, 3900 N. Garden Drive\, Lehi\, UT\, 84043\, United States
CATEGORIES:Lyceum Concerts,Thanksgiving Point
ATTACH;FMTTYPE=image/jpeg:https://lyceumphilharmonic.com/wp-content/uploads/2019/02/Tulip-Festival-Concert-2019-v7-WEB-squarish-e1549916493634.jpg
END:VEVENT
BEGIN:VEVENT
DTSTART;TZID=America/Boise:20180505T193000
DTEND;TZID=America/Boise:20180505T210000
DTSTAMP:20260422T221233
CREATED:20180106T145457Z
LAST-MODIFIED:20180424T211046Z
UID:13525-1525548600-1525554000@lyceumphilharmonic.com
SUMMARY:Lyceum Philharmonic - Tulip Festival Concert Event featuring Lexi Walker - May 5\, 2018
DESCRIPTION:May 5\, 2018\, 7:30 pm — Ashton Garden’s Waterfall Amphitheater at Thanksgiving Point. Concert ticket included with Tulip Festival admission on May 5th so come early\, lay down your blanket\, and enjoy the more than 280\,000 tulips on more than 55 acres of pristine gardens. Event is free to Thanksgiving Point members. Lexi Walker joins the Philharmonic to perform popular tunes including When You Wish Upon A Star\, Tiny Voice\, Never Enough from The Greatest Showman\, and more! The Philharmonic will perform selections from their Simple Gifts album as well as Elgar’s Enigma Variations and the rollicking Romanian Rhapsody by George Enescu.
URL:https://lyceumphilharmonic.com/event/lyceum-philharmonic-tulip-festival-concert-event-featuring-lexi-walker-may-5-2018/
LOCATION:Thanksgiving Point Waterfall Amphitheater\, 3900 N. Garden Drive\, Lehi\, UT\, 84043\, United States
CATEGORIES:Lexi Walker,Thanksgiving Point
ATTACH;FMTTYPE=image/jpeg:https://lyceumphilharmonic.com/wp-content/uploads/2018/01/2018-Lexi-Lyceum-I-15_v3.jpg
END:VEVENT
BEGIN:VEVENT
DTSTART;TZID=America/Boise:20170506T193000
DTEND;TZID=America/Boise:20170506T193000
DTSTAMP:20260422T221233
CREATED:20160325T220806Z
LAST-MODIFIED:20160923T202139Z
UID:12368-1494099000-1494099000@lyceumphilharmonic.com
SUMMARY:Lyceum Philharmonic at Thanksgiving Point Tulip Festival
DESCRIPTION:Featuring Ravel’s Enchanted Garden and La Valse\, Liszt’s Les Preludes\, and a special guest artist to be announced.
URL:https://lyceumphilharmonic.com/event/lyceum-philharmonic-tulip-festival/
LOCATION:Thanksgiving Point Waterfall Amphitheater\, 3900 N. Garden Drive\, Lehi\, UT\, 84043\, United States
CATEGORIES:Lyceum Concerts,Thanksgiving Point
ATTACH;FMTTYPE=image/jpeg:https://lyceumphilharmonic.com/wp-content/uploads/2016/04/Lyceum-Philharmonic-Thanksgiving-Point.jpg
END:VEVENT
BEGIN:VEVENT
DTSTART;TZID=America/Boise:20130510T193000
DTEND;TZID=America/Boise:20130510T193000
DTSTAMP:20260422T221233
CREATED:20160403T011357Z
LAST-MODIFIED:20160406T045811Z
UID:12738-1368214200-1368214200@lyceumphilharmonic.com
SUMMARY:Peter Breinholt & American Heritage Lyceum Philharmonic
DESCRIPTION:Folk Music under the stars featuring Dvorak’s New World Symphony\, alongside a fresh re-telling of Peter Breinholt’s songbook accompanied by the Lyceum Philharmonic! \nShowtime 7:30 pm \nTickets available in-person at Thanksgiving Point or online at\nwww.thanksgivingpoint.org
URL:https://lyceumphilharmonic.com/event/peter-breinholt-american-heritage-lyceum-philharmonic/
LOCATION:Thanksgiving Point Waterfall Amphitheater\, 3900 N. Garden Drive\, Lehi\, UT\, 84043\, United States
CATEGORIES:Peter Breinholt,Thanksgiving Point
ATTACH;FMTTYPE=image/jpeg:https://lyceumphilharmonic.com/wp-content/uploads/2016/04/Peter-Breinholt-Thanksgiving-Point.jpg
END:VEVENT
END:VCALENDAR