BEGIN:VCALENDAR
VERSION:2.0
PRODID:-//Lyceum Philharmonic - ECPv6.15.20//NONSGML v1.0//EN
CALSCALE:GREGORIAN
METHOD:PUBLISH
X-WR-CALNAME:Lyceum Philharmonic
X-ORIGINAL-URL:https://lyceumphilharmonic.com
X-WR-CALDESC:Events for Lyceum Philharmonic
REFRESH-INTERVAL;VALUE=DURATION:PT1H
X-Robots-Tag:noindex
X-PUBLISHED-TTL:PT1H
BEGIN:VTIMEZONE
TZID:America/Boise
BEGIN:DAYLIGHT
TZOFFSETFROM:-0700
TZOFFSETTO:-0600
TZNAME:MDT
DTSTART:20110313T090000
END:DAYLIGHT
BEGIN:STANDARD
TZOFFSETFROM:-0600
TZOFFSETTO:-0700
TZNAME:MST
DTSTART:20111106T080000
END:STANDARD
BEGIN:DAYLIGHT
TZOFFSETFROM:-0700
TZOFFSETTO:-0600
TZNAME:MDT
DTSTART:20120311T090000
END:DAYLIGHT
BEGIN:STANDARD
TZOFFSETFROM:-0600
TZOFFSETTO:-0700
TZNAME:MST
DTSTART:20121104T080000
END:STANDARD
BEGIN:DAYLIGHT
TZOFFSETFROM:-0700
TZOFFSETTO:-0600
TZNAME:MDT
DTSTART:20130310T090000
END:DAYLIGHT
BEGIN:STANDARD
TZOFFSETFROM:-0600
TZOFFSETTO:-0700
TZNAME:MST
DTSTART:20131103T080000
END:STANDARD
BEGIN:DAYLIGHT
TZOFFSETFROM:-0700
TZOFFSETTO:-0600
TZNAME:MDT
DTSTART:20140309T090000
END:DAYLIGHT
BEGIN:STANDARD
TZOFFSETFROM:-0600
TZOFFSETTO:-0700
TZNAME:MST
DTSTART:20141102T080000
END:STANDARD
BEGIN:DAYLIGHT
TZOFFSETFROM:-0700
TZOFFSETTO:-0600
TZNAME:MDT
DTSTART:20150308T090000
END:DAYLIGHT
BEGIN:STANDARD
TZOFFSETFROM:-0600
TZOFFSETTO:-0700
TZNAME:MST
DTSTART:20151101T080000
END:STANDARD
BEGIN:DAYLIGHT
TZOFFSETFROM:-0700
TZOFFSETTO:-0600
TZNAME:MDT
DTSTART:20160313T090000
END:DAYLIGHT
BEGIN:STANDARD
TZOFFSETFROM:-0600
TZOFFSETTO:-0700
TZNAME:MST
DTSTART:20161106T080000
END:STANDARD
BEGIN:DAYLIGHT
TZOFFSETFROM:-0700
TZOFFSETTO:-0600
TZNAME:MDT
DTSTART:20170312T090000
END:DAYLIGHT
BEGIN:STANDARD
TZOFFSETFROM:-0600
TZOFFSETTO:-0700
TZNAME:MST
DTSTART:20171105T080000
END:STANDARD
BEGIN:DAYLIGHT
TZOFFSETFROM:-0700
TZOFFSETTO:-0600
TZNAME:MDT
DTSTART:20180311T090000
END:DAYLIGHT
BEGIN:STANDARD
TZOFFSETFROM:-0600
TZOFFSETTO:-0700
TZNAME:MST
DTSTART:20181104T080000
END:STANDARD
BEGIN:DAYLIGHT
TZOFFSETFROM:-0700
TZOFFSETTO:-0600
TZNAME:MDT
DTSTART:20190310T090000
END:DAYLIGHT
BEGIN:STANDARD
TZOFFSETFROM:-0600
TZOFFSETTO:-0700
TZNAME:MST
DTSTART:20191103T080000
END:STANDARD
BEGIN:DAYLIGHT
TZOFFSETFROM:-0700
TZOFFSETTO:-0600
TZNAME:MDT
DTSTART:20200308T090000
END:DAYLIGHT
BEGIN:STANDARD
TZOFFSETFROM:-0600
TZOFFSETTO:-0700
TZNAME:MST
DTSTART:20201101T080000
END:STANDARD
BEGIN:DAYLIGHT
TZOFFSETFROM:-0700
TZOFFSETTO:-0600
TZNAME:MDT
DTSTART:20210314T090000
END:DAYLIGHT
BEGIN:STANDARD
TZOFFSETFROM:-0600
TZOFFSETTO:-0700
TZNAME:MST
DTSTART:20211107T080000
END:STANDARD
BEGIN:DAYLIGHT
TZOFFSETFROM:-0700
TZOFFSETTO:-0600
TZNAME:MDT
DTSTART:20220313T090000
END:DAYLIGHT
BEGIN:STANDARD
TZOFFSETFROM:-0600
TZOFFSETTO:-0700
TZNAME:MST
DTSTART:20221106T080000
END:STANDARD
BEGIN:DAYLIGHT
TZOFFSETFROM:-0700
TZOFFSETTO:-0600
TZNAME:MDT
DTSTART:20230312T090000
END:DAYLIGHT
BEGIN:STANDARD
TZOFFSETFROM:-0600
TZOFFSETTO:-0700
TZNAME:MST
DTSTART:20231105T080000
END:STANDARD
BEGIN:DAYLIGHT
TZOFFSETFROM:-0700
TZOFFSETTO:-0600
TZNAME:MDT
DTSTART:20240310T090000
END:DAYLIGHT
BEGIN:STANDARD
TZOFFSETFROM:-0600
TZOFFSETTO:-0700
TZNAME:MST
DTSTART:20241103T080000
END:STANDARD
BEGIN:DAYLIGHT
TZOFFSETFROM:-0700
TZOFFSETTO:-0600
TZNAME:MDT
DTSTART:20250309T090000
END:DAYLIGHT
BEGIN:STANDARD
TZOFFSETFROM:-0600
TZOFFSETTO:-0700
TZNAME:MST
DTSTART:20251102T080000
END:STANDARD
END:VTIMEZONE
BEGIN:VEVENT
DTSTART;TZID=America/Boise:20241109T193000
DTEND;TZID=America/Boise:20241109T193000
DTSTAMP:20260422T201558
CREATED:20241101T210109Z
LAST-MODIFIED:20241108T213043Z
UID:14268-1731180600-1731180600@lyceumphilharmonic.com
SUMMARY:Lyceum Symphony to perform "One Nation" Civil War Tribute - Nov 9 (SLC)
DESCRIPTION:“One Nation” is a powerful tribute to Civil War veterans written by Rob Moffat & Rob Gardner for Lyceum Youth Orchestras. This multi-media event features original songs\, letters\, and footage brought to life by a full-symphony orchestra and professional performers\, set against striking Civil War media.  \n“One Nation” amplifies American Heritage School’s desire to increase gratitude and patriotism in a non-partisan way. The music and stories of “One Nation” help students and and audiences to connect to Civil War veterans and families in an intensely personal way. Special guest performers include Rob Moffat\, Yahosh Bonner\, Brian Smith\, Amanda Crabb\, and Linnea Miner. \nClick HERE for tickets.
URL:https://lyceumphilharmonic.com/event/lyceum-symphony-one-nation-slc/
LOCATION:American Heritage School – Salt Lake Campus\, 142 W 200 N\, Salt Lake City\, UT\, 84103\, United States
CATEGORIES:Civil War Tribute,Lyceum Concerts,Veterans Day
ATTACH;FMTTYPE=image/png:https://lyceumphilharmonic.com/wp-content/uploads/2021/01/One-Nation-2021-Poster-e1730212904444.png
END:VEVENT
BEGIN:VEVENT
DTSTART;TZID=America/Boise:20241102T140000
DTEND;TZID=America/Boise:20241102T140000
DTSTAMP:20260422T201558
CREATED:20241101T205817Z
LAST-MODIFIED:20241101T210020Z
UID:14264-1730556000-1730556000@lyceumphilharmonic.com
SUMMARY:Lyceum Philharmonic to perform "One Nation" Civil War Tribute - Nov 2 (matinee)
DESCRIPTION:“One Nation” is a powerful tribute to Civil War veterans written by Rob Moffat & Rob Gardner for Lyceum Youth Orchestras. This multi-media event features original songs\, letters\, and footage brought to life by a full-symphony orchestra and professional performers\, set against striking Civil War media.  \n“One Nation” amplifies American Heritage School’s desire to increase gratitude and patriotism in a non-partisan way. The music and stories of “One Nation” help students and and audiences to connect to Civil War veterans and families in an intensely personal way. Special guest performers include Rob Moffat\, Yahosh Bonner\, Brian Smith\, Amanda Crabb\, and Linnea Miner. \nClick HERE for tickets.
URL:https://lyceumphilharmonic.com/event/lyceum-philharmonic-one-nation-copy/
LOCATION:American Heritage School – American Fork\, 736 N. 1100 E.\, American Fork\, UT\, United States
CATEGORIES:Civil War Tribute,Veterans Day
ATTACH;FMTTYPE=image/png:https://lyceumphilharmonic.com/wp-content/uploads/2021/01/One-Nation-2021-Poster-e1730212904444.png
END:VEVENT
BEGIN:VEVENT
DTSTART;TZID=America/Boise:20210213T193000
DTEND;TZID=America/Boise:20210213T210000
DTSTAMP:20260422T201558
CREATED:20210121T195207Z
LAST-MODIFIED:20210121T195255Z
UID:13893-1613244600-1613250000@lyceumphilharmonic.com
SUMMARY:Lyceum Philharmonic to perform "One Nation" Civil War Tribute (Livestream)
DESCRIPTION:Click HERE for tickets. \nAmerican Heritage Lyceum Philharmonic will present “One Nation”\, a musical tribute to Civil War Veterans. \nThis commissioned work was written specifically for the American Heritage Lyceum Philharmonic by composer Rob Moffat and was orchestrated by Rob Gardner. “One Nation” is billed as a musical production that features a professional cast of actors and singers performing original songs as well as letters and speeches from the Civil War era. Large screens displaying Civil War archival photographs will help to tell the story. \nLyceum Philharmonic Director Kayson Brown said\, “‘One Nation’ helps our students to connect to veterans in an intensely personal way. Learning about the Civil War through preparing for a performance like ‘One Nation’ accomplishes what no textbook can. Living with this inspiring music for weeks\, hearing the letters read\, feeling the music and immersing the students in a presentation with such reverence\, patriotism\, and love of country\, inevitably changes their perspective and helps them to relate to the men and women who sacrifice for our liberty.”
URL:https://lyceumphilharmonic.com/event/lyceum-philharmonic-to-perform-one-nation-civil-war-tribute-2/
LOCATION:Online
CATEGORIES:Civil War Tribute,Lyceum Concerts
ATTACH;FMTTYPE=image/png:https://lyceumphilharmonic.com/wp-content/uploads/2021/01/One-Nation-2021-Poster-e1730212904444.png
END:VEVENT
BEGIN:VEVENT
DTSTART;TZID=America/Boise:20130405T193000
DTEND;TZID=America/Boise:20130405T193000
DTSTAMP:20260422T201558
CREATED:20160403T012019Z
LAST-MODIFIED:20160406T045453Z
UID:12739-1365190200-1365190200@lyceumphilharmonic.com
SUMMARY:Lyceum Philharmonic One Nation Tour: Snow College
DESCRIPTION:
URL:https://lyceumphilharmonic.com/event/lyceum-philharmonic-one-nation-tour-snow-college/
LOCATION:Snow College\, 150 College Ave\, Ephraim\, UT\, United States
CATEGORIES:Civil War Tribute,One Nation Tour
ATTACH;FMTTYPE=image/jpeg:https://lyceumphilharmonic.com/wp-content/uploads/2016/04/One-Nation-Snow.jpg
END:VEVENT
BEGIN:VEVENT
DTSTART;TZID=America/Boise:20130403T193000
DTEND;TZID=America/Boise:20130403T193000
DTSTAMP:20260422T201558
CREATED:20160403T012136Z
LAST-MODIFIED:20160406T045416Z
UID:12741-1365017400-1365017400@lyceumphilharmonic.com
SUMMARY:Lyceum Philharmonic One Nation Tour: Mesa Arts Center
DESCRIPTION:
URL:https://lyceumphilharmonic.com/event/lyceum-philharmonic-one-nation-tour-mesa-arts-center/
LOCATION:Mesa Arts Center\, 1 E Main St.\, Mesa\, AZ\, United States
CATEGORIES:Civil War Tribute,Lyceum Concerts,One Nation Tour
ATTACH;FMTTYPE=image/jpeg:https://lyceumphilharmonic.com/wp-content/uploads/2016/04/One-Nation-Mesa.jpg
END:VEVENT
BEGIN:VEVENT
DTSTART;TZID=America/Boise:20130330T193000
DTEND;TZID=America/Boise:20130330T193000
DTSTAMP:20260422T201558
CREATED:20160403T012506Z
LAST-MODIFIED:20160406T045354Z
UID:12744-1364671800-1364671800@lyceumphilharmonic.com
SUMMARY:Lyceum Philharmonic One Nation Tour: Tuacahn Amphitheatre
DESCRIPTION:
URL:https://lyceumphilharmonic.com/event/lyceum-philharmonic-one-nation-tour-tuacahn-amphitheatre/
LOCATION:Tuacahn Center for the Arts\, 1100 Tuacahn Dr\, Ivins\, UT\, United States
CATEGORIES:Civil War Tribute,Lyceum Concerts,One Nation Tour
ATTACH;FMTTYPE=image/jpeg:https://lyceumphilharmonic.com/wp-content/uploads/2016/04/One-Nation-Tuacahn.jpg
END:VEVENT
BEGIN:VEVENT
DTSTART;TZID=America/Boise:20121110T193000
DTEND;TZID=America/Boise:20121110T210000
DTSTAMP:20260422T201558
CREATED:20160406T053756Z
LAST-MODIFIED:20160406T053830Z
UID:12874-1352575800-1352581200@lyceumphilharmonic.com
SUMMARY:American Heritage Veterans Concert: One Nation - A Civil War Tribute
DESCRIPTION:American Heritage School Presents “One Nation” Civil War Tribute Concerts\nWorld Premiere Veterans Day Event November 9 and 10 \nOctober 24\, 2012\, American Fork\, Utah – On November 9 and 10\, American Heritage School will present the world premiere of “One Nation”\, a musical tribute to Civil War Veterans commemorating the 150th anniversary of the sacrifices made by those who fought to preserve this country a nation. This newly commissioned work was written specifically for the American Heritage Lyceum Philharmonic by Composer Rob Moffat and was orchestrated by Amazon Studios Award Winning Filmmaker and Composer Rob Gardner. \nEvery American Heritage School event endeavors to educate and inspire. Each Veterans Day\, the American Heritage School Lyceum Philharmonic recognizes the service and sacrifice of our nation’s servicemen and women. This year\, we honor our Veterans and their families with One Nation\, a musical production that features a professional cast of actors and singers from New York\, Arizona and Utah performing original songs as well as letters and speeches from the Civil War era. Large screens displaying Civil War archive photographs will help to tell the story of those who fought and those who sacrificed on the home front. \nLyceum Philharmonic Director Kayson Brown said\, “One Nation helps our students to connect to Veterans in an intensely personal way. Learning about the Civil War through preparing for a performance like One Nation accomplishes what no textbook can. Living with this inspiring music for weeks\, hearing the letters read\, feeling the music and immersing the students in a presentation with such reverence\, patriotism\, and love of country\, inevitably changes their perspective and helps them to relate to the men and women who sacrifice for our liberty.” \nPrior Veterans Day Concert attendees will remember “The Price of Freedom.” The One Nation commission was intended to provide a similar experience for Philharmonic students and the community. It shares the same performance style and tone\, and the focus is not on historical dates or figures but One Nation seeks to connect both student and audience with the people of the day. One Nation\, commissioned by American Heritage School\, will premiere at American Heritage School Veterans Day weekend\, and will subsequently go on tour March 30 – April 6\, 2013 where it will be performed at Tuacahn in St. George\, Utah\, the Smith Center in Las Vegas\, and the Mesa Arts Center in Arizona.
URL:https://lyceumphilharmonic.com/event/american-heritage-veterans-concert-one-nation-civil-war-tribute-2/
LOCATION:American Heritage School – American Fork\, 736 N. 1100 E.\, American Fork\, UT\, United States
CATEGORIES:Civil War Tribute,Veterans Day
ATTACH;FMTTYPE=image/jpeg:https://lyceumphilharmonic.com/wp-content/uploads/2016/04/One-Nation-Nov-9.jpg
END:VEVENT
BEGIN:VEVENT
DTSTART;TZID=America/Boise:20121109T193000
DTEND;TZID=America/Boise:20121109T210000
DTSTAMP:20260422T201558
CREATED:20160403T013145Z
LAST-MODIFIED:20160406T045329Z
UID:12747-1352489400-1352494800@lyceumphilharmonic.com
SUMMARY:American Heritage Veterans Concert: One Nation - A Civil War Tribute
DESCRIPTION:American Heritage School Presents “One Nation” Civil War Tribute Concerts\nWorld Premiere Veterans Day Event November 9 and 10 \nOctober 24\, 2012\, American Fork\, Utah – On November 9 and 10\, American Heritage School will present the world premiere of “One Nation”\, a musical tribute to Civil War Veterans commemorating the 150th anniversary of the sacrifices made by those who fought to preserve this country a nation. This newly commissioned work was written specifically for the American Heritage Lyceum Philharmonic by Composer Rob Moffat and was orchestrated by Amazon Studios Award Winning Filmmaker and Composer Rob Gardner. \nEvery American Heritage School event endeavors to educate and inspire. Each Veterans Day\, the American Heritage School Lyceum Philharmonic recognizes the service and sacrifice of our nation’s servicemen and women. This year\, we honor our Veterans and their families with One Nation\, a musical production that features a professional cast of actors and singers from New York\, Arizona and Utah performing original songs as well as letters and speeches from the Civil War era. Large screens displaying Civil War archive photographs will help to tell the story of those who fought and those who sacrificed on the home front. \nLyceum Philharmonic Director Kayson Brown said\, “One Nation helps our students to connect to Veterans in an intensely personal way. Learning about the Civil War through preparing for a performance like One Nation accomplishes what no textbook can. Living with this inspiring music for weeks\, hearing the letters read\, feeling the music and immersing the students in a presentation with such reverence\, patriotism\, and love of country\, inevitably changes their perspective and helps them to relate to the men and women who sacrifice for our liberty.” \nPrior Veterans Day Concert attendees will remember “The Price of Freedom.” The One Nation commission was intended to provide a similar experience for Philharmonic students and the community. It shares the same performance style and tone\, and the focus is not on historical dates or figures but One Nation seeks to connect both student and audience with the people of the day. One Nation\, commissioned by American Heritage School\, will premiere at American Heritage School Veterans Day weekend\, and will subsequently go on tour March 30 – April 6\, 2013 where it will be performed at Tuacahn in St. George\, Utah\, the Smith Center in Las Vegas\, and the Mesa Arts Center in Arizona.
URL:https://lyceumphilharmonic.com/event/american-heritage-veterans-concert-one-nation-civil-war-tribute/
LOCATION:American Heritage School – American Fork\, 736 N. 1100 E.\, American Fork\, UT\, United States
CATEGORIES:Civil War Tribute,Veterans Day
ATTACH;FMTTYPE=image/jpeg:https://lyceumphilharmonic.com/wp-content/uploads/2016/04/One-Nation-Nov-9.jpg
END:VEVENT
END:VCALENDAR